BEGIN:VCALENDAR
VERSION:2.0
PRODID:SchoolNow
CALSCALE:GREGORIAN
BEGIN:VEVENT
UID:7ef40e5a-bb49-11f0-91ce-0afff3d351ff
DTSTAMP:20260408T180226Z
SUMMARY:CDD Board Meeting - Sept. 2025
LOCATION:The Eaves Bend Amenity Center located at 4725 Los Robles Court\, P
 almetto\, FL 34221
URL;VALUE=URI:https://www.buckheadtrailscdd.com/calendar/8781371/cdd-board-
 meeting-sept-2025
DTSTART:20250924T170000Z
DTEND:20250924T180000Z
ATTACH;FILENAME=2025-09-24 - Buckhead Trails CDD - Agenda Package.pdf;FMTTY
 PE=application/pdf:https://campussuite-storage.s3.amazonaws.com/prod/15592
 84/979fc676-b9c6-11f0-8185-0a58a9feac02/3087568/e3631202-3374-11f1-8749-0a
 58a9feac02/file/2025-09-24 - Buckhead Trails CDD - Agenda Package.pdf
END:VEVENT
END:VCALENDAR
