BEGIN:VCALENDAR
VERSION:2.0
PRODID:SchoolNow
CALSCALE:GREGORIAN
BEGIN:VEVENT
UID:c1f5d33c-bb49-11f0-ba5b-0affd0ed08b3
DTSTAMP:20251106T194950Z
SUMMARY:CDD Board Meeting - Oct. 2025 - Cancelled
LOCATION:The Eaves Bend Amenity Center located at 4725 Los Robles Court\, P
 almetto\, FL 34221
URL;VALUE=URI:https://www.buckheadtrailscdd.com/calendar/8781372/cdd-board-
 meeting-oct-2025-cancelled
DTSTART:20251022T170000Z
DTEND:20251022T180000Z
END:VEVENT
END:VCALENDAR
