BEGIN:VCALENDAR
VERSION:2.0
PRODID:SchoolNow
CALSCALE:GREGORIAN
BEGIN:VEVENT
UID:edc23438-bb49-11f0-9bb4-0a58a9feac02
DTSTAMP:20251119T224728Z
SUMMARY:CDD Board Meeting - Nov. 2025
LOCATION:The Eaves Bend Amenity Center located at 4725 Los Robles Court\, P
 almetto\, FL 34221
URL;VALUE=URI:https://www.buckheadtrailscdd.com/calendar/8781373/cdd-board-
 meeting-nov-2025
DTSTART:20251119T180000Z
DTEND:20251119T190000Z
ATTACH;FILENAME=2025-11-19 BHT Meeting Book.pdf;FMTTYPE=application/pdf:htt
 ps://campussuite-storage.s3.amazonaws.com/prod/1559284/979fc676-b9c6-11f0-
 8185-0a58a9feac02/3041775/9b84d482-c599-11f0-9741-0e87b21e145b/file/2025-1
 1-19 BHT Meeting Book.pdf
END:VEVENT
END:VCALENDAR
