BEGIN:VCALENDAR
VERSION:2.0
PRODID:SchoolNow
CALSCALE:GREGORIAN
BEGIN:VEVENT
UID:0e05c2b4-bb4a-11f0-87e7-0a58a9feac02
DTSTAMP:20260408T153856Z
SUMMARY:CDD Board Meeting - Dec. 2025 - Cancelled
LOCATION:The Eaves Bend Amenity Center located at 4725 Los Robles Court\, P
 almetto\, FL 34221
URL;VALUE=URI:https://www.buckheadtrailscdd.com/calendar/8781374/cdd-board-
 meeting-dec-2025
DTSTART:20251224T180000Z
DTEND:20251224T190000Z
END:VEVENT
END:VCALENDAR
