BEGIN:VCALENDAR
VERSION:2.0
PRODID:SchoolNow
CALSCALE:GREGORIAN
BEGIN:VEVENT
UID:2d46560c-bb4a-11f0-a94b-0afffa06ec9d
DTSTAMP:20260408T180308Z
SUMMARY:CDD Board Meeting - Jan. 2026
LOCATION:The Eaves Bend Amenity Center located at 4725 Los Robles Court\, P
 almetto\, FL 34221
URL;VALUE=URI:https://www.buckheadtrailscdd.com/calendar/8781375/cdd-board-
 meeting-jan-2026
DTSTART:20260128T180000Z
DTEND:20260128T190000Z
ATTACH;FILENAME=2026-01-28 Buckhead Trails CDD Agenda Package.pdf;FMTTYPE=a
 pplication/pdf:https://campussuite-storage.s3.amazonaws.com/prod/1559284/9
 79fc676-b9c6-11f0-8185-0a58a9feac02/3087569/f76bc474-3374-11f1-9b0c-0a58a9
 feac02/file/2026-01-28 Buckhead Trails CDD Agenda Package.pdf
END:VEVENT
END:VCALENDAR
