BEGIN:VCALENDAR
VERSION:2.0
PRODID:SchoolNow
CALSCALE:GREGORIAN
BEGIN:VEVENT
UID:4de9068e-bb4a-11f0-ac14-0affd0ed08b3
DTSTAMP:20260408T180320Z
SUMMARY:CDD Board Meeting - Feb. 2026
LOCATION:The Eaves Bend Amenity Center located at 4725 Los Robles Court\, P
 almetto\, FL 34221
URL;VALUE=URI:https://www.buckheadtrailscdd.com/calendar/8781376/cdd-board-
 meeting-feb-2026
DTSTART:20260225T180000Z
DTEND:20260225T190000Z
ATTACH;FILENAME=2026-02-25 Buckhead Trails CDD Agenda Package.pdf;FMTTYPE=a
 pplication/pdf:https://campussuite-storage.s3.amazonaws.com/prod/1559284/9
 79fc676-b9c6-11f0-8185-0a58a9feac02/3087570/f76c2248-3374-11f1-ba35-0a58a9
 feac02/file/2026-02-25 Buckhead Trails CDD Agenda Package.pdf
END:VEVENT
END:VCALENDAR
