BEGIN:VCALENDAR
VERSION:2.0
PRODID:SchoolNow
CALSCALE:GREGORIAN
BEGIN:VEVENT
UID:66404bc0-bb4a-11f0-8395-0a58a9feac02
DTSTAMP:20260408T180334Z
SUMMARY:CDD Board Meeting - Mar. 2026
LOCATION:The Eaves Bend Amenity Center located at 4725 Los Robles Court\, P
 almetto\, FL 34221
URL;VALUE=URI:https://www.buckheadtrailscdd.com/calendar/8781377/cdd-board-
 meeting-mar-2026
DTSTART:20260325T170000Z
DTEND:20260325T180000Z
ATTACH;FILENAME=2026-03-25 Buckhead Trails CDD Revised Agenda Package.pdf;F
 MTTYPE=application/pdf:https://campussuite-storage.s3.amazonaws.com/prod/1
 559284/979fc676-b9c6-11f0-8185-0a58a9feac02/3087571/f76c2680-3374-11f1-9ab
 d-0a58a9feac02/file/2026-03-25 Buckhead Trails CDD Revised Agenda Package.
 pdf
END:VEVENT
END:VCALENDAR
