BEGIN:VCALENDAR
VERSION:2.0
PRODID:SchoolNow
CALSCALE:GREGORIAN
BEGIN:VEVENT
UID:84ed775a-bb4a-11f0-a74a-0a58a9feac02
DTSTAMP:20251106T195518Z
SUMMARY:CDD Board Meeting - Apr. 2026
LOCATION:The Eaves Bend Amenity Center located at 4725 Los Robles Court\, P
 almetto\, FL 34221
URL;VALUE=URI:https://www.buckheadtrailscdd.com/calendar/8781378/cdd-board-
 meeting-apr-2026
DTSTART:20260422T170000Z
DTEND:20260422T180000Z
END:VEVENT
END:VCALENDAR
