BEGIN:VCALENDAR
VERSION:2.0
PRODID:SchoolNow
CALSCALE:GREGORIAN
BEGIN:VEVENT
UID:a324a3c4-bb4a-11f0-85a2-0afff3d351ff
DTSTAMP:20251106T195608Z
SUMMARY:CDD Board Meeting - May 2026
LOCATION:The Eaves Bend Amenity Center located at 4725 Los Robles Court\, P
 almetto\, FL 34221
URL;VALUE=URI:https://www.buckheadtrailscdd.com/calendar/8781379/cdd-board-
 meeting-may-2026
DTSTART:20260527T170000Z
DTEND:20260527T180000Z
END:VEVENT
END:VCALENDAR
