BEGIN:VCALENDAR
VERSION:2.0
PRODID:SchoolNow
CALSCALE:GREGORIAN
BEGIN:VEVENT
UID:d89d72a6-bb4a-11f0-90fa-0affd2424ac3
DTSTAMP:20251106T195738Z
SUMMARY:CDD Board Meeting - Jun. 2026
LOCATION:The Eaves Bend Amenity Center located at 4725 Los Robles Court\, P
 almetto\, FL 34221
URL;VALUE=URI:https://www.buckheadtrailscdd.com/calendar/8781380/cdd-board-
 meeting-jun-2026
DTSTART:20260624T170000Z
DTEND:20260624T180000Z
END:VEVENT
END:VCALENDAR
