BEGIN:VCALENDAR
VERSION:2.0
PRODID:SchoolNow
CALSCALE:GREGORIAN
BEGIN:VEVENT
UID:efa86992-bb4a-11f0-b7ed-0a58a9feac02
DTSTAMP:20251106T195817Z
SUMMARY:CDD Board Meeting - Jul. 2026
LOCATION:The Eaves Bend Amenity Center located at 4725 Los Robles Court\, P
 almetto\, FL 34221
URL;VALUE=URI:https://www.buckheadtrailscdd.com/calendar/8781381/cdd-board-
 meeting-jul-2026
DTSTART:20260722T170000Z
DTEND:20260722T180000Z
END:VEVENT
END:VCALENDAR
