BEGIN:VCALENDAR
VERSION:2.0
PRODID:SchoolNow
CALSCALE:GREGORIAN
BEGIN:VEVENT
UID:3399a328-bb4b-11f0-b8ab-02231b95ae21
DTSTAMP:20251106T200011Z
SUMMARY:CDD Board Meeting - Sept. 2026
LOCATION:The Eaves Bend Amenity Center located at 4725 Los Robles Court\, P
 almetto\, FL 34221
URL;VALUE=URI:https://www.buckheadtrailscdd.com/calendar/8781383/cdd-board-
 meeting-sept-2026
DTSTART:20260923T170000Z
DTEND:20260923T180000Z
END:VEVENT
END:VCALENDAR
