BEGIN:VCALENDAR
VERSION:2.0
PRODID:SchoolNow
CALSCALE:GREGORIAN
BEGIN:VEVENT
UID:b6c3fc4e-bb50-11f0-91f2-027347f9d4e7
DTSTAMP:20251119T224008Z
SUMMARY:CDD Board Meeting - Apr. 2025
LOCATION:The Eaves Bend Amenity Center located at 4725 Los Robles Court\, P
 almetto\, FL 34221
URL;VALUE=URI:https://www.buckheadtrailscdd.com/calendar/8781539/cdd-board-
 meeting-apr-2025
DTSTART:20250423T170000Z
DTEND:20250423T180000Z
ATTACH;FILENAME=2025-04-23 BHT Meeting Book.pdf;FMTTYPE=application/pdf:htt
 ps://campussuite-storage.s3.amazonaws.com/prod/1559284/979fc676-b9c6-11f0-
 8185-0a58a9feac02/3035555/0c5e355c-be8a-11f0-ae73-027347f9d4e7/file/2025-0
 4-23 BHT Meeting Book.pdf
END:VEVENT
END:VCALENDAR
