BEGIN:VCALENDAR
VERSION:2.0
PRODID:SchoolNow
CALSCALE:GREGORIAN
BEGIN:VEVENT
UID:d1d65af4-bb50-11f0-8468-02234586cfdd
DTSTAMP:20251119T224044Z
SUMMARY:CDD Board Meeting - Feb. 2025
LOCATION:The Eaves Bend Amenity Center located at 4725 Los Robles Court\, P
 almetto\, FL 34221
URL;VALUE=URI:https://www.buckheadtrailscdd.com/calendar/8781558/cdd-board-
 meeting-feb-2025
DTSTART:20250226T180000Z
DTEND:20250226T190000Z
ATTACH;FILENAME=2025-02-26 BHT Meeting Book.pdf;FMTTYPE=application/pdf:htt
 ps://campussuite-storage.s3.amazonaws.com/prod/1559284/979fc676-b9c6-11f0-
 8185-0a58a9feac02/3035556/0c5e36d8-be8a-11f0-b757-027347f9d4e7/file/2025-0
 2-26 BHT Meeting Book.pdf
END:VEVENT
END:VCALENDAR
