BEGIN:VCALENDAR
VERSION:2.0
PRODID:SchoolNow
CALSCALE:GREGORIAN
BEGIN:VEVENT
UID:ee4fd246-bb50-11f0-9c6e-0a58a9feac02
DTSTAMP:20251119T224119Z
SUMMARY:CDD Board Meeting - Dec. 2024
LOCATION:The Eaves Bend Amenity Center located at 4725 Los Robles Court\, P
 almetto\, FL 34221
URL;VALUE=URI:https://www.buckheadtrailscdd.com/calendar/8781580/cdd-board-
 meeting-dec-2024
DTSTART:20241211T180000Z
DTEND:20241211T190000Z
ATTACH;FILENAME=2024-12-11 BHT Meeting Book.pdf;FMTTYPE=application/pdf:htt
 ps://campussuite-storage.s3.amazonaws.com/prod/1559284/979fc676-b9c6-11f0-
 8185-0a58a9feac02/3035554/0c5e33cc-be8a-11f0-8e07-027347f9d4e7/file/2024-1
 2-11 BHT Meeting Book.pdf
END:VEVENT
END:VCALENDAR
