BEGIN:VCALENDAR
VERSION:2.0
PRODID:SchoolNow
CALSCALE:GREGORIAN
BEGIN:VEVENT
UID:0a781dc0-bb51-11f0-bd48-0e058de3dd31
DTSTAMP:20251119T224133Z
SUMMARY:CDD Board Meeting - Nov. 2024
LOCATION:The Eaves Bend Amenity Center located at 4725 Los Robles Court\, P
 almetto\, FL 34221
URL;VALUE=URI:https://www.buckheadtrailscdd.com/calendar/8781794/cdd-board-
 meeting-nov-2024
DTSTART:20241120T180000Z
DTEND:20241120T190000Z
ATTACH;FILENAME=2024-11-20 BHT Meeting Book.pdf;FMTTYPE=application/pdf:htt
 ps://campussuite-storage.s3.amazonaws.com/prod/1559284/979fc676-b9c6-11f0-
 8185-0a58a9feac02/3035553/0c5e3246-be8a-11f0-8de9-027347f9d4e7/file/2024-1
 1-20 BHT Meeting Book.pdf
END:VEVENT
END:VCALENDAR
